BEGIN:VCALENDAR
VERSION:2.0
PRODID:-//ChamberMaster//Event Calendar 2.0//EN
METHOD:PUBLISH
X-PUBLISHED-TTL:P3D
REFRESH-INTERVAL:P3D
CALSCALE:GREGORIAN
BEGIN:VEVENT
DTSTART:20200129T170000Z
DTEND:20200129T183000Z
X-MICROSOFT-CDO-ALLDAYEVENT:FALSE
SUMMARY:Ambassador's Meeting
DESCRIPTION:Ambassador's Meeting
X-ALT-DESC;FMTTYPE=text/html:Ambassador&#39\;s Meeting&nbsp\;
LOCATION:VB Chamber Office - TBD due to the fire
UID:e.3542.177
SEQUENCE:3
DTSTAMP:20260424T055813Z
URL:https://business.vandaliabutlerchamber.org/events/details/ambassador-s-meeting-177
END:VEVENT

END:VCALENDAR
