BEGIN:VCALENDAR
VERSION:2.0
PRODID:-//ChamberMaster//Event Calendar 2.0//EN
METHOD:PUBLISH
X-PUBLISHED-TTL:P3D
REFRESH-INTERVAL:P3D
CALSCALE:GREGORIAN
BEGIN:VEVENT
DTSTART:20200220T210000Z
DTEND:20200220T220000Z
X-MICROSOFT-CDO-ALLDAYEVENT:FALSE
SUMMARY:ARCpoint Labs of Tipp City - Ribbon Cutting
DESCRIPTION:ClickHere https://chambermaster.blob.core.windows.net/userfiles/UserFiles/chambers/3542/File/ARCpointGrandOpening.pdf
X-ALT-DESC;FMTTYPE=text/html:ClickHere&nbsp\;<a href="https://chambermaster.blob.core.windows.net/userfiles/UserFiles/chambers/3542/File/ARCpointGrandOpening.pdf">https://chambermaster.blob.core.windows.net/userfiles/UserFiles/chambers/3542/File/ARCpointGrandOpening.pdf</a>
LOCATION:ARCpoint Labs 1487 West Main Street Tipp City\, OH 45371
UID:e.3542.228
SEQUENCE:3
DTSTAMP:20260424T042329Z
URL:https://business.vandaliabutlerchamber.org/events/details/arcpoint-labs-of-tipp-city-ribbon-cutting-228
END:VEVENT

END:VCALENDAR
