BEGIN:VCALENDAR
VERSION:2.0
PRODID:-//ChamberMaster//Event Calendar 2.0//EN
METHOD:PUBLISH
X-PUBLISHED-TTL:P3D
REFRESH-INTERVAL:P3D
CALSCALE:GREGORIAN
BEGIN:VEVENT
DTSTART;VALUE=DATE:20211230
DTEND;VALUE=DATE:20220101
TRANSP:TRANSPARENT
X-MICROSOFT-CDO-ALLDAYEVENT:TRUE
SUMMARY:Beyond Giving Tuesday
DESCRIPTION:It's Giving Tuesday - Beyond !!!  Thank You for supporting the Vandalia Butler Chamber of Commerce. \n\n\n\n*This link will remain active through December 31.
X-ALT-DESC;FMTTYPE=text/html:<span style="font-size:16px\;"><span style="color:#4B0082\;"><strong>It&#39\;s Giving Tuesday - Beyond !!!</strong></span>&nbsp\; Thank You for supporting the Vandalia Butler Chamber of Commerce.&nbsp\;</span><br />\n<br />\n<em>*This link will remain active through December 31.</em>
LOCATION:
UID:e.3542.301
SEQUENCE:3
DTSTAMP:20260420T190102Z
URL:https://business.vandaliabutlerchamber.org/events/details/beyond-giving-tuesday-301
END:VEVENT

END:VCALENDAR
