BEGIN:VCALENDAR
VERSION:2.0
PRODID:-//ChamberMaster//Event Calendar 2.0//EN
METHOD:PUBLISH
X-PUBLISHED-TTL:P3D
REFRESH-INTERVAL:P3D
CALSCALE:GREGORIAN
BEGIN:VEVENT
DTSTART:20220222T220000Z
DTEND:20220222T233000Z
X-MICROSOFT-CDO-ALLDAYEVENT:FALSE
SUMMARY:Business After Hours
DESCRIPTION:The Vandalia Butler Chamber of Commerce welcomes all business professionals to participate in our Business After Hours. Grow your pool of contacts\, build strong relationships\, learn about area businesses and Move Business FORWARD!\n\n\n\n*Celebrate 2's Day... Tuesday\, 2/22/22\, with a round of networking. Stop in for 5 minutes or stay the entire time. While you're here you will experience: \n\n	Great Networking to Grow Your Contact List\n	Refreshing (adult) Beverages to Quench your Thirst\n	Catering by City BBQ to hold you over until dinner time\n	You might even walk out with a Fabulous Door Prize\n\n\n\nBe sure to bring plenty of business cards!!!
X-ALT-DESC;FMTTYPE=text/html:<span style="font-size:18px\;">The Vandalia Butler Chamber of Commerce welcomes all business professionals to participate in our Business After Hours. Grow your pool of contacts\, build strong relationships\, learn about area businesses and <strong>Move Business <i>FORWARD!<br />\n<br />\n*Celebrate 2&#39\;s Day... Tuesday\, 2/22/22\, with a round of networking. Stop in for 5 minutes or stay the entire time. While you&#39\;re here you will experience:&nbsp\;</i></strong></span>\n<ul>\n	<li><span style="font-size:18px\;"><strong><i>Great Networking to Grow Your Contact List</i></strong></span></li>\n	<li><span style="font-size:18px\;"><strong><i>Refreshing (adult) Beverages to Quench your Thirst</i></strong></span></li>\n	<li><span style="font-size:18px\;"><strong><i><span style="color:#B22222\;">Catering by City BBQ</span> to hold you over until dinner time</i></strong></span></li>\n	<li><span style="font-size:18px\;"><strong><i>You might&nbsp\;even walk out with a Fabulous Door Prize</i></strong></span></li>\n</ul>\n<br />\n<span style="font-size:18px\;"><strong><i><span style="color:#FF0000\;">Be sure to bring plenty of business cards!!!</span></i></strong></span>
LOCATION:Vandalia Butler Chamber of Commerce 544 West National Road Vandalia\, OH 45377
UID:e.3542.255
SEQUENCE:3
DTSTAMP:20260420T161421Z
URL:https://business.vandaliabutlerchamber.org/events/details/buisness-after-hours-abbey-credit-union-02-05-2022-255
END:VEVENT

END:VCALENDAR
