BEGIN:VCALENDAR
VERSION:2.0
PRODID:-//ChamberMaster//Event Calendar 2.0//EN
METHOD:PUBLISH
X-PUBLISHED-TTL:P3D
REFRESH-INTERVAL:P3D
CALSCALE:GREGORIAN
BEGIN:VEVENT
DTSTART:20210622T210000Z
DTEND:20210622T223000Z
X-MICROSOFT-CDO-ALLDAYEVENT:FALSE
SUMMARY:Business After Hours
DESCRIPTION:The Vandalia Butler Chamber of Commerce welcomes all business professionals to participate in our Business After Hours networking.  Grow your pool of contacts\, build strong relationships\, learn about area businesses and Move Business FORWARD!\n\n\n\nBe sure to bring plenty of business cards!!!
X-ALT-DESC;FMTTYPE=text/html:<span style="font-size:18px\;">The Vandalia Butler Chamber of Commerce welcomes all business professionals to participate in our Business After Hours networking.&nbsp\; Grow your pool of contacts\, build strong relationships\, learn about area businesses and <strong>Move Business <i>FORWARD!<br />\n<br />\nBe sure to bring plenty of business cards!!!</i></strong></span>
LOCATION:Medicare Planning of Dayton 7030 Poe Avenue Dayton\, OH 45414
UID:e.3542.247
SEQUENCE:3
DTSTAMP:20260421T040854Z
URL:https://business.vandaliabutlerchamber.org/events/details/business-after-hours-06-22-2021-247
END:VEVENT

END:VCALENDAR
