BEGIN:VCALENDAR
VERSION:2.0
PRODID:-//ChamberMaster//Event Calendar 2.0//EN
METHOD:PUBLISH
X-PUBLISHED-TTL:P3D
REFRESH-INTERVAL:P3D
CALSCALE:GREGORIAN
BEGIN:VEVENT
DTSTART:20200820T210000Z
DTEND:20200820T223000Z
X-MICROSOFT-CDO-ALLDAYEVENT:FALSE
SUMMARY:Business After Hours - Canceled
DESCRIPTION:Business After Hours - Monroe Federal \n\n\n\n*Due to COVID 19 and Social Distancing hurdles\, this event has been CANCELED
X-ALT-DESC;FMTTYPE=text/html:Business After Hours - Monroe Federal&nbsp\;<br />\n<br />\n<span style="color:#FF0000\;"><strong>*Due to COVID 19 and Social Distancing hurdles\, this event has been <span style="font-size:16px\;">CANCELED</span></strong></span>
LOCATION:264 East National Road Vandalia\, OH 45377
UID:e.3542.227
SEQUENCE:3
DTSTAMP:20260423T200441Z
URL:https://business.vandaliabutlerchamber.org/events/details/business-after-hours-canceled-227
END:VEVENT

END:VCALENDAR
