BEGIN:VCALENDAR
VERSION:2.0
PRODID:-//ChamberMaster//Event Calendar 2.0//EN
METHOD:PUBLISH
X-PUBLISHED-TTL:P3D
REFRESH-INTERVAL:P3D
CALSCALE:GREGORIAN
BEGIN:VEVENT
DTSTART:20191123T150000Z
DTEND:20191123T220000Z
X-MICROSOFT-CDO-ALLDAYEVENT:FALSE
SUMMARY:Butler High Arts & Craft Show
DESCRIPTION:Butler High Arts & Craft Show - All proceeds go to the Athletic Department
X-ALT-DESC;FMTTYPE=text/html:Butler High Arts &amp\; Craft Show - All proceeds go to the Athletic Department&nbsp\;
LOCATION:Vandalia Butler High School 600 South Dixie Drive Vandalia\, OH 45377
UID:e.3542.141
SEQUENCE:3
DTSTAMP:20260424T084824Z
URL:https://business.vandaliabutlerchamber.org/events/details/butler-high-arts-craft-show-141
END:VEVENT

END:VCALENDAR
