BEGIN:VCALENDAR
VERSION:2.0
PRODID:-//ChamberMaster//Event Calendar 2.0//EN
METHOD:PUBLISH
X-PUBLISHED-TTL:P3D
REFRESH-INTERVAL:P3D
CALSCALE:GREGORIAN
BEGIN:VEVENT
DTSTART:20191124T160000Z
DTEND:20191124T210000Z
X-MICROSOFT-CDO-ALLDAYEVENT:FALSE
SUMMARY:Butler High Arts & Craft Show
DESCRIPTION:Butler High Arts & Craft Show - All proceeds go to the Athletic Department
X-ALT-DESC;FMTTYPE=text/html:Butler High Arts &amp\; Craft Show - All proceeds go to the Athletic Department&nbsp\;
LOCATION:
UID:e.3542.142
SEQUENCE:3
DTSTAMP:20260424T090525Z
URL:https://business.vandaliabutlerchamber.org/events/details/butler-high-arts-craft-show-142
END:VEVENT

END:VCALENDAR
