BEGIN:VCALENDAR
VERSION:2.0
PRODID:-//ChamberMaster//Event Calendar 2.0//EN
METHOD:PUBLISH
X-PUBLISHED-TTL:P3D
REFRESH-INTERVAL:P3D
CALSCALE:GREGORIAN
BEGIN:VEVENT
DTSTART:20200808T140000Z
DTEND:20200808T180000Z
X-MICROSOFT-CDO-ALLDAYEVENT:FALSE
SUMMARY:Cruise-In to Butler Township -- CANCELED Due to COVID-19 Pandemic
DESCRIPTION:Due to the continued concerns over the COVID-19 virus\, the 2020 Cruise-In to Butler Township has been CANCELED.\n\n\n\nWe Look forward to seeing everyone in 2021l
X-ALT-DESC;FMTTYPE=text/html:<span style="font-size:16px\;"><span style="color:#FF0000\;"><span style="font-family:arial\;"><strong>Due to the continued concerns over the COVID-19 virus\, the 2020 Cruise-In to Butler Township has been CANCELED.<br />\n<br />\nWe Look forward to seeing everyone in 2021l</strong></span></span></span><br />\n&nbsp\;
LOCATION:Located in Miller Lane Area (in front of Walmart) on York Commons & Commerce Center Drive
UID:e.3542.205
SEQUENCE:3
DTSTAMP:20260423T201923Z
URL:https://business.vandaliabutlerchamber.org/events/details/cruise-in-to-butler-township-canceled-due-to-covid-19-pandemic-205
END:VEVENT

END:VCALENDAR
