BEGIN:VCALENDAR
VERSION:2.0
PRODID:-//ChamberMaster//Event Calendar 2.0//EN
METHOD:PUBLISH
X-PUBLISHED-TTL:P3D
REFRESH-INTERVAL:P3D
CALSCALE:GREGORIAN
BEGIN:VEVENT
DTSTART:20220413T153000Z
DTEND:20220413T170000Z
X-MICROSOFT-CDO-ALLDAYEVENT:FALSE
SUMMARY:Doing Business ~ SMART: Lunch and Learn
DESCRIPTION:Throughout 2022 our Member Benefit partners - in cooperation with SOCA (Southern Ohio Chamber Alliance) - will provide a deep\, in the weeds\, review of business programs that have been built for one purpose... to help you SAVE on the cost of doing business! \n\n\n\nIn April\, we tackle the world of Heath Care. In particular\, how businesses with 50 or fewer employees can provide health insurance to their staff and do this within budget. Come engage in conversation with SOCA's CEO/President\, Matt Appenzeller\, as he walks you through the SOCA Benefit Plan and how this fully funded MEWA\, administered by Anthem Blue Cross/Blue Shield\, could be the answer to all your Heath Insurance needs.
X-ALT-DESC;FMTTYPE=text/html:<span style="font-size:14px\;">Throughout 2022 our Member Benefit partners - <em>in cooperation with <strong>SOCA</strong> (Southern Ohio Chamber Alliance)</em> - will provide a deep\, in the weeds\, review of business programs that have been built for one purpose... to help you SAVE on the cost of doing business!&nbsp\;<br />\n<br />\nIn April\, we tackle the world of Heath Care. In particular\, how businesses with 50 or fewer employees can provide health insurance to their staff and do this within budget. Come engage in conversation with SOCA&#39\;s CEO/President\, Matt Appenzeller\, as he walks you through the SOCA Benefit Plan and how this fully funded MEWA\, administered by Anthem Blue Cross/Blue Shield\, could be the answer to all your Heath Insurance needs.&nbsp\;</span>
LOCATION:Cassel Hills Golf Course Banquet Center 201 Clubhouse Way Vandalia\, OH 45377
UID:e.3542.565
SEQUENCE:3
DTSTAMP:20260420T130610Z
URL:https://business.vandaliabutlerchamber.org/events/details/doing-business-smart-lunch-and-learn-565
END:VEVENT

END:VCALENDAR
