BEGIN:VCALENDAR
VERSION:2.0
PRODID:-//ChamberMaster//Event Calendar 2.0//EN
METHOD:PUBLISH
X-PUBLISHED-TTL:P3D
REFRESH-INTERVAL:P3D
CALSCALE:GREGORIAN
BEGIN:VEVENT
DTSTART:20220211T130000Z
DTEND:20220211T140000Z
X-MICROSOFT-CDO-ALLDAYEVENT:FALSE
SUMMARY:First Friday Coffee
DESCRIPTION:DUE TO HAZARDOUS ROAD CONDITIONS ON FEB. 3rd & 4th - FEBRUARY'S FIRST FRIDAY COFFEE HAS BEEN MOVED TO FRIDAY FEBRUARY 11th - EVERYONE PLEASE STAY SAFE !!!\n\n\n\nJoin us for our First Friday Coffee\, in the Community Room of the Vandalia branch of the Dayton Metro Library.. You'll experience great coffee and breakfast sandwiches from Vandalia's local coffee house - Warehouse 4 Coffee. Lot's of room and great connections.\n\n\n\nMissed a few coffee's? Have never attended? One of our regulars? Everyone is welcome! We encourage you to bring a guest or two and don't forget your business cards for growing your network.
X-ALT-DESC;FMTTYPE=text/html:<span style="font-size:18px\;"><span style="color:#FF0000\;"><strong>DUE TO HAZARDOUS ROAD CONDITIONS ON FEB. 3rd &amp\; 4th - FEBRUARY&#39\;S FIRST FRIDAY COFFEE HAS BEEN MOVED TO FRIDAY FEBRUARY 11th - EVERYONE PLEASE STAY SAFE !!!</strong></span></span><br />\n<br />\nJoin us for our First Friday Coffee\, in the Community Room of the Vandalia branch of the Dayton Metro Library.. You&#39\;ll experience great coffee and breakfast sandwiches from Vandalia&#39\;s local coffee house -&nbsp\;Warehouse 4 Coffee. Lot&#39\;s of room and great connections.<br />\n<br />\nMissed a few coffee&#39\;s? Have never attended? One of our regulars? Everyone is welcome! We encourage you to bring a guest or two&nbsp\;and&nbsp\;<u><strong>don&#39\;t forget your business cards</strong></u>&nbsp\;for growing your&nbsp\;network.<br />\n&nbsp\;
LOCATION:Dayton Metro Library (Vandalia) 330 South Dixie Drive Vandalia\, OH 45377
UID:e.3542.32
SEQUENCE:3
DTSTAMP:20260420T162113Z
URL:https://business.vandaliabutlerchamber.org/events/details/first-friday-coffee-02-04-2022-32
END:VEVENT

END:VCALENDAR
