BEGIN:VCALENDAR
VERSION:2.0
PRODID:-//ChamberMaster//Event Calendar 2.0//EN
METHOD:PUBLISH
X-PUBLISHED-TTL:P3D
REFRESH-INTERVAL:P3D
CALSCALE:GREGORIAN
BEGIN:VEVENT
DTSTART:20210507T120000Z
DTEND:20210507T130000Z
X-MICROSOFT-CDO-ALLDAYEVENT:FALSE
SUMMARY:First Friday Coffee
DESCRIPTION:Join us for our First Friday Coffee's in the Community Room at the Vandalia Justice Center located on James Bohanan Drive. We'll provide the coffee and breakfast items\, you bring the conversation.\n\n\n\nEveryone is welcome!  We encourage you to bring a guest or two and don't forget your business cards for growing your network.\n\n\n\nWorking together to Move Business FORWARD in 2021.
X-ALT-DESC;FMTTYPE=text/html:Join us for our First Friday Coffee&#39\;s in the Community Room at the Vandalia Justice Center located on James Bohanan Drive. We&#39\;ll provide the coffee and breakfast items\, you bring the conversation.<br />\n<br />\nEveryone is welcome!&nbsp\; We encourage you to bring a guest or two&nbsp\;and&nbsp\;<u><strong>don&#39\;t forget your business cards</strong></u>&nbsp\;for growing your&nbsp\;network.<br />\n<br />\nWorking together to <strong>Move Business <em>FORWARD</em></strong> in 2021.
LOCATION:Community Room Vandalia Justice Center 245 James Bohanan Drive Vandalia\, OH 45377
UID:e.3542.23
SEQUENCE:3
DTSTAMP:20260421T055238Z
URL:https://business.vandaliabutlerchamber.org/events/details/first-friday-coffee-05-07-2021-23
END:VEVENT

END:VCALENDAR
