BEGIN:VCALENDAR
VERSION:2.0
PRODID:-//ChamberMaster//Event Calendar 2.0//EN
METHOD:PUBLISH
X-PUBLISHED-TTL:P3D
REFRESH-INTERVAL:P3D
CALSCALE:GREGORIAN
BEGIN:VEVENT
DTSTART:20210806T120000Z
DTEND:20210806T130000Z
X-MICROSOFT-CDO-ALLDAYEVENT:FALSE
SUMMARY:First Friday Coffee
DESCRIPTION:Join us for our First Friday Coffee in the Community Room of the Vandalia Municipal Court Building. You'll experience great coffee and breakfast sandwiches from Vandalia's local coffee house - Warehouse 4 Coffee. Lot's of room and great connections.\n\n\n\nMissed a few coffee's? Have never attended? One of our regulars? Everyone is welcome! We encourage you to bring a guest or two and don't forget your business cards for growing your network.
X-ALT-DESC;FMTTYPE=text/html:Join us for our First Friday Coffee in the Community Room of the Vandalia Municipal Court Building. You&#39\;ll experience great coffee and breakfast sandwiches from Vandalia&#39\;s local coffee house -&nbsp\;Warehouse 4 Coffee. Lot&#39\;s of room and great connections.<br />\n<br />\nMissed a few coffee&#39\;s? Have never attended? One of our regulars? Everyone is welcome! We encourage you to bring a guest or two&nbsp\;and&nbsp\;<u><strong>don&#39\;t forget your business cards</strong></u>&nbsp\;for growing your&nbsp\;network.
LOCATION:Community Room Vandalia Municipal Justice Center 245 James Bohanan Drive Vandalia\, OH 45377
UID:e.3542.26
SEQUENCE:3
DTSTAMP:20260421T010058Z
URL:https://business.vandaliabutlerchamber.org/events/details/first-friday-coffee-08-06-2021-26
END:VEVENT

END:VCALENDAR
