BEGIN:VCALENDAR
VERSION:2.0
PRODID:-//ChamberMaster//Event Calendar 2.0//EN
METHOD:PUBLISH
X-PUBLISHED-TTL:P3D
REFRESH-INTERVAL:P3D
CALSCALE:GREGORIAN
BEGIN:VEVENT
DTSTART:20201002T120000Z
DTEND:20201002T130000Z
X-MICROSOFT-CDO-ALLDAYEVENT:FALSE
SUMMARY:First Friday Coffee
DESCRIPTION:Join us for our First Friday Coffee.  We'll bring the coffee breakfast\, you bring the conversation.\n\n\n\n* Not ready to join us in person\, that cool - we have a virtually meeting set up through Zoom.  If you'd like the login details\, please contact our office\; info@vandaliabutlerchamber.org.
X-ALT-DESC;FMTTYPE=text/html:<span style="font-size:16px\;">Join us for our <strong>First Friday Coffee</strong>.&nbsp\; We&#39\;ll bring the coffee breakfast\, you bring the conversation.<br />\n<br />\n*<span style="color: rgb(51\, 51\, 51)\; font-family: sans-serif\, Arial\, Verdana\, &quot\;Trebuchet MS&quot\;\; background-color: rgb(255\, 255\, 255)\;">&nbsp\;Not ready to join us in person\, that cool - we have a virtually meeting set up through Zoom.&nbsp\; If you&#39\;d like the login details\, please contact our office\; info@vandaliabutlerchamber.org.&nbsp\;</span></span>
LOCATION:Schiewetz Leadership Training Center - Miami Valley Council / Boy Scouts of America 6444 Frederick Pike Dayton\, OH 45414
UID:e.3542.16
SEQUENCE:3
DTSTAMP:20260423T182439Z
URL:https://business.vandaliabutlerchamber.org/events/details/first-friday-coffee-10-02-2020-16
END:VEVENT

END:VCALENDAR
