BEGIN:VCALENDAR
VERSION:2.0
PRODID:-//ChamberMaster//Event Calendar 2.0//EN
METHOD:PUBLISH
X-PUBLISHED-TTL:P3D
REFRESH-INTERVAL:P3D
CALSCALE:GREGORIAN
BEGIN:VEVENT
DTSTART:20191203T230000Z
DTEND:20191204T000000Z
X-MICROSOFT-CDO-ALLDAYEVENT:FALSE
SUMMARY:Holiday Tree Lighting - Dayton Memorial Park
DESCRIPTION:Holiday Tree Lighting at Dayton Memorial Park. Dayton Memorial Park invites you to participate in our annual Holiday Tree Lighting. Bring an ornament of your choice and place it on the memorial tree. The event will be at the Abbey Mausoleum. Seasonal refreshments provided. Questions regarding the event\, please call 937-890-1831
X-ALT-DESC;FMTTYPE=text/html:Holiday Tree Lighting at Dayton Memorial Park. Dayton Memorial Park invites you to participate in our annual Holiday Tree Lighting. Bring an ornament of your choice and place it on the memorial tree. The event will be at the Abbey Mausoleum. Seasonal refreshments provided. Questions regarding the event\, please call 937-890-1831
LOCATION:8135 North Dixie Drive Dayton\, OH 45414
UID:e.3542.154
SEQUENCE:3
DTSTAMP:20260424T072836Z
URL:https://business.vandaliabutlerchamber.org/events/details/holiday-tree-lighting-dayton-memorial-park-154
END:VEVENT

END:VCALENDAR
