BEGIN:VCALENDAR
VERSION:2.0
PRODID:-//ChamberMaster//Event Calendar 2.0//EN
METHOD:PUBLISH
X-PUBLISHED-TTL:P3D
REFRESH-INTERVAL:P3D
CALSCALE:GREGORIAN
BEGIN:VEVENT
DTSTART:20220215T220000Z
DTEND:20220216T020000Z
X-MICROSOFT-CDO-ALLDAYEVENT:FALSE
SUMMARY:Honor Awards Banquet
DESCRIPTION:Celebrating Excellence in Business and Community\, the February 15\, 2022 Honor Awards Banquet recognizes an Emerging Professional\, Non-Profit Organization\, Ambassador\, Business\, Professional and Small Business that has elevated their industry and the Vandalia Butler business community.  The evening is culminated with the presentation of the 2021 Marvin Link Distinguished Service Award\, recognizing an individual who has devoted a life-time of excellence in civic volunteerism.
X-ALT-DESC;FMTTYPE=text/html:<span style="font-size:18px\;"><span style="color:#B22222\;">Celebrating Excellence in Business and Community\, the February 15\, 2022&nbsp\;<u><strong>Honor Awards Banquet</strong></u>&nbsp\;recognizes an Emerging Professional\, Non-Profit Organization\, Ambassador\, Business\, Professional and Small Business that has elevated their industry and the Vandalia Butler business community.&nbsp\; The evening is culminated with the presentation of the 2021 Marvin Link Distinguished Service Award\, recognizing an individual who has devoted a life-time of excellence in civic volunteerism.</span></span>
LOCATION:Banquet Center at Scene 75 6196 Poe Avenue Dayton\, OH 45414
UID:e.3542.304
SEQUENCE:3
DTSTAMP:20260420T173306Z
URL:https://business.vandaliabutlerchamber.org/events/details/honor-awards-banquet-304
END:VEVENT

END:VCALENDAR
