BEGIN:VCALENDAR
VERSION:2.0
PRODID:-//ChamberMaster//Event Calendar 2.0//EN
METHOD:PUBLISH
X-PUBLISHED-TTL:P3D
REFRESH-INTERVAL:P3D
CALSCALE:GREGORIAN
BEGIN:VEVENT
DTSTART:20191030T120000Z
DTEND:20191030T143000Z
X-MICROSOFT-CDO-ALLDAYEVENT:FALSE
SUMMARY:HR Round table
DESCRIPTION:Performance Management\n\n \n\nWhen it comes time for performance reviews most managers are scrambling\n\nto complete the review but can only remember the last 90 days\, if they're lucky. Join us as we review out-of-the-box methods for performance management that happens all year long and makes an impact with your employees. We'll discuss:\n\n	Employee-driven meetings\n	Performance documentation\n	Goal setting strategies\n	Providing effective feedback\n\n \n\n \n\nBe with us as Jamie and Tina from HR Elements walk us through the steps to achieve your HR goals for continued success into the next year and decade\n\n\n\nHR Council is a FREE service brought to all VB Chamber Members through HR Elements.\n\n \n\nSHRM credit(s) available for most HR Council events\n\n \n\n~ A light\, continental style breakfast is served ~
X-ALT-DESC;FMTTYPE=text/html:<strong><span style="color:black\;"><span style="font-family:arial\,sans-serif\;"><span style="font-size:21.0pt\;">Performance Management</span></span></span></strong><br />\n&nbsp\;<br />\n<span style="color:black\;"><span style="font-family:arial\,sans-serif\;">When it comes time for performance reviews most managers are scrambling</span></span><br />\n<span style="color:black\;"><span style="font-family:arial\,sans-serif\;">to complete the review but can only remember the last 90 days\, if they&rsquo\;re lucky.&nbsp\;Join us as we review out-of-the-box methods for performance management that happens all year long and makes an impact with your employees.&nbsp\;We&rsquo\;ll discuss:</span></span>\n<ul>\n	<li><span style="color:black\;"><span style="font-family:arial\,sans-serif\;">Employee-driven meetings</span></span></li>\n	<li><span style="color:black\;"><span style="font-family:arial\,sans-serif\;">Performance documentation</span></span></li>\n	<li><span style="color:black\;"><span style="font-family:arial\,sans-serif\;">Goal setting strategies</span></span></li>\n	<li><span style="color:black\;"><span style="font-family:arial\,sans-serif\;">Providing effective feedback</span></span></li>\n</ul>\n&nbsp\;<br />\n&nbsp\;<br />\n<span style="color:black\;"><span style="font-family:arial\,sans-serif\;"><span style="font-size:12.0pt\;">Be with us as Jamie and Tina from HR Elements walk us through the steps to achieve your HR goals for continued success into the next year and decade</span></span></span><br />\n<br />\n<strong><span style="color:black\;"><span style="font-family:arial\,sans-serif\;"><span style="font-size:15.0pt\;">HR Council</span></span></span></strong><span style="color:black\;"><span style="font-family:arial\,sans-serif\;"><span style="font-size:15.0pt\;"> is a FREE service brought to all VB Chamber Members through HR Elements.</span></span></span><br />\n&nbsp\;<br />\n<strong><span style="color:black\;"><span style="font-family:arial\,sans-serif\;"><span style="font-size:13.5pt\;">SHRM credit(s) available for most HR Council events</span></span></span></strong><br />\n&nbsp\;<br />\n<span style="color:black\;"><span style="font-family:arial\,sans-serif\;"><span style="font-size:12.0pt\;">~ A light\, continental style breakfast is served ~</span></span></span>
LOCATION:Community Room Vandalia Justice Center 245 James E Bohanan Drive Vandalia\, OH 45377
UID:e.3542.145
SEQUENCE:3
DTSTAMP:20260424T095122Z
URL:https://business.vandaliabutlerchamber.org/events/details/hr-round-table-145
END:VEVENT

END:VCALENDAR
