BEGIN:VCALENDAR
VERSION:2.0
PRODID:-//ChamberMaster//Event Calendar 2.0//EN
METHOD:PUBLISH
X-PUBLISHED-TTL:P3D
REFRESH-INTERVAL:P3D
CALSCALE:GREGORIAN
BEGIN:VEVENT
DTSTART:20211217T140000Z
DTEND:20211217T170000Z
X-MICROSOFT-CDO-ALLDAYEVENT:FALSE
SUMMARY:Identifying & Responding to Workplace Impairment
DESCRIPTION:A Live\, in-person certification training for Human Resources and Safety Professionals\, Supervisors and Leaders.
X-ALT-DESC;FMTTYPE=text/html:A Live\, in-person certification training for Human Resources and Safety Professionals\, Supervisors and Leaders.
LOCATION:Tipp Center 855 N Third Street Tipp City\, OH 45371
UID:e.3542.302
SEQUENCE:3
DTSTAMP:20260420T185127Z
URL:https://business.vandaliabutlerchamber.org/events/details/identifying-responding-to-workplace-impairment-302
END:VEVENT

END:VCALENDAR
