BEGIN:VCALENDAR
VERSION:2.0
PRODID:-//ChamberMaster//Event Calendar 2.0//EN
METHOD:PUBLISH
X-PUBLISHED-TTL:P3D
REFRESH-INTERVAL:P3D
CALSCALE:GREGORIAN
BEGIN:VEVENT
DTSTART:20210106T164500Z
DTEND:20210106T180000Z
X-MICROSOFT-CDO-ALLDAYEVENT:FALSE
SUMMARY:January WINGS Luncheon
DESCRIPTION:First WINGS Luncheon of 2021!
X-ALT-DESC;FMTTYPE=text/html:<strong>First WINGS Luncheon of 2021!</strong><br />\n&nbsp\;
LOCATION:This will be a Zoom only event - please contact the VB Chamber for login information
UID:e.3542.231
SEQUENCE:3
DTSTAMP:20260421T122611Z
URL:https://business.vandaliabutlerchamber.org/events/details/january-wings-luncheon-231
END:VEVENT

END:VCALENDAR
