BEGIN:VCALENDAR
VERSION:2.0
PRODID:-//ChamberMaster//Event Calendar 2.0//EN
METHOD:PUBLISH
X-PUBLISHED-TTL:P3D
REFRESH-INTERVAL:P3D
CALSCALE:GREGORIAN
BEGIN:VEVENT
DTSTART:20201217T230000Z
DTEND:20201218T010000Z
X-MICROSOFT-CDO-ALLDAYEVENT:FALSE
SUMMARY:Jingle Mingle - Holiday Social
DESCRIPTION:Our Annual Holiday Social with a virtual twist
X-ALT-DESC;FMTTYPE=text/html:<span style="color:#FF0000\;"><strong><span style="font-size:18px\;">Our Annual Holiday Social with a virtual twist</span></strong></span><br />\n<br />\n&nbsp\;
LOCATION:Zoom
UID:e.3542.220
SEQUENCE:3
DTSTAMP:20260423T140945Z
URL:https://business.vandaliabutlerchamber.org/events/details/jingle-mingle-holiday-social-220
END:VEVENT

END:VCALENDAR
