BEGIN:VCALENDAR
VERSION:2.0
PRODID:-//ChamberMaster//Event Calendar 2.0//EN
METHOD:PUBLISH
X-PUBLISHED-TTL:P3D
REFRESH-INTERVAL:P3D
CALSCALE:GREGORIAN
BEGIN:VEVENT
DTSTART:20211028T220000Z
DTEND:20211029T000000Z
X-MICROSOFT-CDO-ALLDAYEVENT:FALSE
SUMMARY:Meet the Candidates Forum
DESCRIPTION:Four Candidates Seeking Your Vote for Township Trustee\n\n \n\nButler Township - As a quiet election season falls upon us\, four individuals are vying for two seats for the position of Township Trustee. In an effort to shed some light on these individuals\, the Vandalia Butler Chamber is hosting a Meet the Candidates forum on Thursday\, October 28th from 6:00pm - 8:00pm in the Town Hall Meeting space in Butler Townships Fire Station 88 on Little York Road.\n\n \n\nDuring the roundtable event\, you'll get to know your candidates and be provided time to ask them questions. \n\n \n\nWhile the Town Hall has plenty of room and we look forward to having loads of residents from the Township attend\, some folks may not be ready for Face-to-Face interaction. That's okay - we have a solution for them. Join us through Zoom. You'll have full access to see an hear the proceedings and even be able to ask pertinent questions from the comfort of home.\n\n \n\nSo whether you join us in person\, or virtually through Zoom\, we strongly encourage you to spend a little time with your candidates and future Township Trustees.\n\n \n\nYour Candidates:\n\n	Ken Betz *incumbent\n	Don Birdsall\n	Bryson Jackson\n	Mike Thein\n\n\n\nMeet the Candidates for Butler Township Trustee through Zoom\n\nTime: October 28\, 2021 6:00 PM\n\nMeeting ID: 870 4384 9120\n\nPasscode: 755227 \n\n Registration Link:  https://us02web.zoom.us/j/87043849120?pwd=UXZLblhsOXd3c0lPN3pFbGhrSmlFZz09
X-ALT-DESC;FMTTYPE=text/html:<strong><span style="color:#403F42\;"><span style="font-family:arial\,sans-serif\;"><span style="font-size:18.0pt\;">Four Candidates Seeking Your Vote for Township Trustee</span></span></span></strong><br />\n&nbsp\;<br />\n<strong><span style="color:#403F42\;"><span style="font-family:arial\,sans-serif\;">Butler Township</span></span></strong><span style="color:#403F42\;"><span style="font-family:arial\,sans-serif\;"> - As a quiet election season falls upon us\, four individuals are vying for two seats for the position of Township Trustee. In an effort to shed some light on these individuals\, the Vandalia Butler Chamber is hosting a <strong>Meet the Candidates forum on Thursday\, October 28th from 6:00pm - 8:00pm </strong>in the Town Hall Meeting space in Butler Townships Fire Station 88 on Little York Road.</span></span><br />\n&nbsp\;<br />\n<span style="color:#403F42\;"><span style="font-family:arial\,sans-serif\;">During the roundtable event\, you&#39\;ll get to know your candidates and be provided time to ask them questions. </span></span><br />\n&nbsp\;<br />\n<span style="color:#403F42\;"><span style="font-family:arial\,sans-serif\;">While the Town Hall has plenty of room and we look forward to having loads of residents from the Township attend\, some folks may not be ready for Face-to-Face interaction. That&#39\;s okay - we have a solution for them. Join us through Zoom. You&#39\;ll have full access to see an hear the proceedings and even be able to ask pertinent questions from the comfort of home.</span></span><br />\n&nbsp\;<br />\n<span style="color:#403F42\;"><span style="font-family:arial\,sans-serif\;">So whether you join us in person\, or virtually through Zoom\, we strongly encourage you to spend a little time with your candidates and future Township Trustees.</span></span><br />\n&nbsp\;<br />\n<strong><u><span style="color:#403F42\;"><span style="font-family:arial\,sans-serif\;"><span style="font-size:13.5pt\;">Your Candidates:</span></span></span></u></strong>\n<ul>\n	<li><strong><span style="color:#403F42\;"><span style="font-family:arial\,sans-serif\;"><span style="font-size:13.5pt\;">Ken Betz </span></span></span></strong><em><span style="color:#403F42\;"><span style="font-family:arial\,sans-serif\;">*incumbent</span></span></em></li>\n	<li><strong><span style="color:#403F42\;"><span style="font-family:arial\,sans-serif\;"><span style="font-size:13.5pt\;">Don Birdsall</span></span></span></strong></li>\n	<li><strong><span style="color:#403F42\;"><span style="font-family:arial\,sans-serif\;"><span style="font-size:13.5pt\;">Bryson Jackson</span></span></span></strong></li>\n	<li><strong><span style="color:#403F42\;"><span style="font-family:arial\,sans-serif\;"><span style="font-size:13.5pt\;">Mike Thein</span></span></span></strong></li>\n</ul>\n<br />\n<strong><u><span style="color:#232333\;"><span style="font-family:arial\,sans-serif\;"><span style="font-size:13.5pt\;">Meet the Candidates for Butler Township Trustee through Zoom</span></span></span></u></strong><br />\n<strong><u><span style="color:#232333\;"><span style="font-family:arial\,sans-serif\;"><span style="font-size:13.5pt\;">Time:</span></span></span></u></strong> <strong><span style="color:#CF8F12\;"><span style="font-family:arial\,sans-serif\;"><span style="font-size:13.5pt\;">October 28\, 2021 6:00 PM</span></span></span></strong><br />\n<strong><u><span style="color:#232333\;"><span style="font-family:arial\,sans-serif\;"><span style="font-size:13.5pt\;">Meeting ID:</span></span></span></u></strong> <strong><span style="color:#BF3F2F\;"><span style="font-family:arial\,sans-serif\;"><span style="font-size:13.5pt\;">870 4384 9120</span></span></span></strong><br />\n<strong><u><span style="color:#232333\;"><span style="font-family:arial\,sans-serif\;"><span style="font-size:13.5pt\;">Passcode:</span></span></span></u></strong>&nbsp\;<strong><span style="color:#6B40A9\;"><span style="font-family:arial\,sans-serif\;"><span style="font-size:13.5pt\;">755227</span></span></span></strong>&nbsp\;<br />\n&nbsp\;<strong><u><span style="color:#232333\;"><span style="font-family:arial\,sans-serif\;"><span style="font-size:13.5pt\;">Registration Link:</span></span></span></u></strong> &nbsp\;<span style="color:#403f42\;"><span style="font-family:arial\,sans-serif\;"><span style="font-size:10.5pt\;"><a href="https://r20.rs6.net/tn.jsp?f=001CvAG1Pg_kmv__fzB7WWAM5fMUM8hPbC-W2VpME40HFhyD_UVOaxnskO23E-F-y0cmzc7N9MUvXhBcXglbwkqUrdTyl10gdyHC0gnFuRaZOFZsCsIEkDX_rUnbsby8Y7crNn8pzjPQoHG0A_j-H-_qeqmjvkF6TlICzpbmKZGPj70ErYOtBMZJH7HOHvLGO6v7lcrbFp5ISEQ17VINUNpe5SP_0pHP0Mn&amp\;c=7hY975d8OUVL6wzYp7dfr9SfVTlFm6-xTtNQhmQDXciBTLD6I68BBQ==&amp\;ch=0ii2W4KJLmyZRGXqY76TykR5nLKwc80ns5GuercDpTzODSk0DbhCWg==" target="_blank"><strong><span style="text-decoration-line:none\;"><span style="color:#0c55f2\;"><span style="font-size:13.5pt\;">https://us02web.zoom.us/j/87043849120?pwd=UXZLblhsOXd3c0lPN3pFbGhrSmlFZz09</span></span></span></strong></a></span></span></span><br />\n&nbsp\;
LOCATION:Butler Township Meeting Hall Fire Station 88 3780 Little York Road Dayton\, OH 45414
UID:e.3542.300
SEQUENCE:3
DTSTAMP:20260420T214815Z
URL:https://business.vandaliabutlerchamber.org/events/details/meet-the-candidates-forum-300
END:VEVENT

END:VCALENDAR
