BEGIN:VCALENDAR
VERSION:2.0
PRODID:-//ChamberMaster//Event Calendar 2.0//EN
METHOD:PUBLISH
X-PUBLISHED-TTL:P3D
REFRESH-INTERVAL:P3D
CALSCALE:GREGORIAN
BEGIN:VEVENT
DTSTART:20220511T153000Z
DTEND:20220511T170000Z
X-MICROSOFT-CDO-ALLDAYEVENT:FALSE
SUMMARY:Doing Business ~ SMART: Lunch and Learn
DESCRIPTION:Throughout 2022 our Member Benefit partners - in cooperation with SOCA (Southern Ohio Chamber Alliance) - will provide a deep\, in the weeds\, review of business programs that have been built for one purpose... to help you SAVE on the cost of doing business! \n\n\n\nIn May\, we look into the IT world of Credit Card Processing\, in particular\, how businesses using any type of POS System\, or any organization with a need for capturing payment by credit or debit card can do so\, effectively and safely with the help of Elavon. Come engage in conversation with John Webb of Elavon\, as he walks us through all of the options the proper processing system can provide you... and doing so at a very competitive price point.
X-ALT-DESC;FMTTYPE=text/html:<span style="font-size:14px\;">Throughout 2022 our Member Benefit partners - <em>in cooperation with <strong>SOCA</strong> (Southern Ohio Chamber Alliance)</em> - will provide a deep\, in the weeds\, review of business programs that have been built for one purpose... to help you SAVE on the cost of doing business!&nbsp\;<br />\n<br />\nIn May\, we look into the IT world of Credit Card Processing\, in particular\, how businesses using any type of POS System\, or any organization with a need for capturing payment by credit or debit card can do so\, effectively and safely with the help of Elavon. Come engage in conversation with John Webb of Elavon\, as he walks us through all of the options the proper processing system can provide you... and doing so at a very competitive price point.&nbsp\;</span>
LOCATION:Cassel Hills Golf Course Banquet Center 201 Clubhouse Way Vandalia\, OH 45377
UID:e.3542.566
SEQUENCE:3
DTSTAMP:20260420T122121Z
URL:https://business.vandaliabutlerchamber.org/events/details/member-lunch-and-learn-05-11-2022-566
END:VEVENT

END:VCALENDAR
