BEGIN:VCALENDAR
VERSION:2.0
PRODID:-//ChamberMaster//Event Calendar 2.0//EN
METHOD:PUBLISH
X-PUBLISHED-TTL:P3D
REFRESH-INTERVAL:P3D
CALSCALE:GREGORIAN
BEGIN:VEVENT
DTSTART:20201003T140000Z
DTEND:20201003T210000Z
X-MICROSOFT-CDO-ALLDAYEVENT:FALSE
SUMMARY:Party in the Park - Canceled
DESCRIPTION:For the safety of our community\, the Butler Township 2020 Party in the Park has been canceled.  We look forward to sharing a day of fun and celebration with everyone in 2021.
X-ALT-DESC;FMTTYPE=text/html:<strong><span style="font-size:14px\;">For the safety of our community\, the Butler Township 2020 Party in the Park has been canceled.&nbsp\; We look forward to sharing a day of fun and celebration with everyone in 2021.</span></strong>
LOCATION:Art Van Atta Park 3180 Benchwood Road Dayton\, OH 45414
UID:e.3542.210
SEQUENCE:3
DTSTAMP:20260423T173539Z
URL:https://business.vandaliabutlerchamber.org/events/details/party-in-the-park-canceled-210
END:VEVENT

END:VCALENDAR
