BEGIN:VCALENDAR
VERSION:2.0
PRODID:-//ChamberMaster//Event Calendar 2.0//EN
METHOD:PUBLISH
X-PUBLISHED-TTL:P3D
REFRESH-INTERVAL:P3D
CALSCALE:GREGORIAN
BEGIN:VEVENT
DTSTART:20220831T200000Z
DTEND:20220831T213000Z
X-MICROSOFT-CDO-ALLDAYEVENT:FALSE
SUMMARY:Ribbon Cutting - Flyght Fit Kids Club
DESCRIPTION:Join us for for the Ribbon Cutting of FLYGHT FIT KIDS CLUB
X-ALT-DESC;FMTTYPE=text/html:Join us for for the Ribbon Cutting of&nbsp\;<a href="http://WWW.FLYGHTFITKIDSCLUB.COM"><span style="font-size:16px\;"><u><strong>FLYGHT FIT KIDS CLUB</strong></u></span></a>
LOCATION:732 W. National Road\, Vandalia\, Ohio 45377
UID:e.3542.589
SEQUENCE:3
DTSTAMP:20260419T130213Z
URL:https://business.vandaliabutlerchamber.org/events/details/ribbon-cutting-flyght-fit-kids-club-589
END:VEVENT

END:VCALENDAR
