BEGIN:VCALENDAR
VERSION:2.0
PRODID:-//ChamberMaster//Event Calendar 2.0//EN
METHOD:PUBLISH
X-PUBLISHED-TTL:P3D
REFRESH-INTERVAL:P3D
CALSCALE:GREGORIAN
BEGIN:VEVENT
DTSTART:20220907T200000Z
DTEND:20220907T230000Z
X-MICROSOFT-CDO-ALLDAYEVENT:FALSE
SUMMARY:Ribbon Cutting for Grandeur Event Center
DESCRIPTION:Ribbon Cutting for Grandeur Event Center
X-ALT-DESC;FMTTYPE=text/html:Ribbon Cutting for&nbsp\;<a href="http://www.grandeureventcenter.com"><strong><u><span style="font-size:16px\;">Grandeur Event Center</span></u></strong></a>
LOCATION:3119 Stop 8 Road\, Dayton OH 45414
UID:e.3542.590
SEQUENCE:3
DTSTAMP:20260419T142146Z
URL:https://business.vandaliabutlerchamber.org/events/details/ribbon-cutting-for-grandeur-event-center-590
END:VEVENT

END:VCALENDAR
