BEGIN:VCALENDAR
VERSION:2.0
PRODID:-//ChamberMaster//Event Calendar 2.0//EN
METHOD:PUBLISH
X-PUBLISHED-TTL:P3D
REFRESH-INTERVAL:P3D
CALSCALE:GREGORIAN
BEGIN:VEVENT
DTSTART:20221118T161500Z
DTEND:20221118T173000Z
X-MICROSOFT-CDO-ALLDAYEVENT:FALSE
SUMMARY:Ribbon Cutting for Quick Lane at Beau Townsend
DESCRIPTION:Quick Lane Ribbon Cutting
X-ALT-DESC;FMTTYPE=text/html:Quick Lane Ribbon Cutting
LOCATION:1090 W. National Road\, Vandalia OH 45377
UID:e.3542.594
SEQUENCE:3
DTSTAMP:20260419T183733Z
URL:https://business.vandaliabutlerchamber.org/events/details/ribbon-cutting-for-quick-lane-at-beau-townsend-594
END:VEVENT

END:VCALENDAR
