BEGIN:VCALENDAR
VERSION:2.0
PRODID:-//ChamberMaster//Event Calendar 2.0//EN
METHOD:PUBLISH
X-PUBLISHED-TTL:P3D
REFRESH-INTERVAL:P3D
CALSCALE:GREGORIAN
BEGIN:VEVENT
DTSTART;VALUE=DATE:20211127
DTEND;VALUE=DATE:20211128
TRANSP:TRANSPARENT
X-MICROSOFT-CDO-ALLDAYEVENT:TRUE
SUMMARY:Shop Small Saturday
DESCRIPTION:Shop Local\, Shop Small - Support our local retail businesses this holiday shopping season.
X-ALT-DESC;FMTTYPE=text/html:Shop Local\, Shop Small - Support our local retail businesses this holiday shopping season.
LOCATION:Throughout Vandalia and Butler Township
UID:e.3542.277
SEQUENCE:3
DTSTAMP:20260420T201337Z
URL:https://business.vandaliabutlerchamber.org/events/details/shop-small-saturday-277
END:VEVENT

END:VCALENDAR
