BEGIN:VCALENDAR
VERSION:2.0
PRODID:-//ChamberMaster//Event Calendar 2.0//EN
METHOD:PUBLISH
X-PUBLISHED-TTL:P3D
REFRESH-INTERVAL:P3D
CALSCALE:GREGORIAN
BEGIN:VEVENT
DTSTART:20211023T120000Z
DTEND:20211023T150000Z
X-MICROSOFT-CDO-ALLDAYEVENT:FALSE
SUMMARY:Taking Flight 5K
DESCRIPTION:POSTPONED until Spring of 2022 -- Join us for our inaugural Vandalia Butler Chamber of Commerce Taking Flight 5k\; supporting our Emerging Professionals and WINgs networking groups.  Taking Flight 5K will start at Memorial Stadium at Butler High School\, wind its way through several Vandalia neighborhoods and finish at the Vandalia Art Park. To register for the 5K\, click on the link displayed under the website listing below or copy and paste this information into your browser\; https://runsignup.com/Race/OH/Vandalia/TakingFlight5k .
X-ALT-DESC;FMTTYPE=text/html:<span style="font-size:16px\;"><span style="font-size:22px\;"><span style="color:#FF0000\;"><strong>POSTPONED until Spring of 2022</strong></span></span> -- Join us for our inaugural Vandalia Butler Chamber of Commerce <strong>Taking Flight 5k</strong>\; supporting our <em><strong>Emerging Professionals</strong></em>&nbsp\;and <em><strong>WINgs </strong></em>networking groups.&nbsp\; Taking Flight 5K will start at Memorial Stadium at Butler High School\, wind its way through several Vandalia neighborhoods and finish at the Vandalia Art Park. To register for the 5K\, click on the link displayed under the website listing below or copy and paste this information into your browser\;&nbsp\;<font face="Helvetica\, sans-serif">https://runsignup.com/Race/OH/Vandalia/TakingFlight5k .</font></span>
LOCATION:Starting Line: Memorial Stadium at Butler High School 600 South Dixie Drive Vandalia\, OH 45377 Finish Line: Vandalia Art Park 300 East Alkaline Springs Road Vandalia\, OH 45377
UID:e.3542.275
SEQUENCE:3
DTSTAMP:20260420T213839Z
URL:https://business.vandaliabutlerchamber.org/events/details/taking-flight-5k-275
END:VEVENT

END:VCALENDAR
