BEGIN:VCALENDAR
VERSION:2.0
PRODID:-//ChamberMaster//Event Calendar 2.0//EN
METHOD:PUBLISH
X-PUBLISHED-TTL:P3D
REFRESH-INTERVAL:P3D
CALSCALE:GREGORIAN
BEGIN:VEVENT
DTSTART;VALUE=DATE:20191129
DTEND;VALUE=DATE:20191130
TRANSP:TRANSPARENT
X-MICROSOFT-CDO-ALLDAYEVENT:TRUE
SUMMARY:Vandalia Butler Chamber - Office Closed
DESCRIPTION:The Vandalia Butler Chamber of Commerce will be closed in observance of the holiday. Please come see us on November 30th for our Shop Small Event!
X-ALT-DESC;FMTTYPE=text/html:The Vandalia Butler Chamber of Commerce will be closed in observance of the holiday. Please come see us on November 30th for our Shop Small Event!
LOCATION:
UID:e.3542.139
SEQUENCE:3
DTSTAMP:20260424T084823Z
URL:https://business.vandaliabutlerchamber.org/events/details/vandalia-butler-chamber-office-closed-139
END:VEVENT

END:VCALENDAR
