BEGIN:VCALENDAR
VERSION:2.0
PRODID:-//ChamberMaster//Event Calendar 2.0//EN
METHOD:PUBLISH
X-PUBLISHED-TTL:P3D
REFRESH-INTERVAL:P3D
CALSCALE:GREGORIAN
BEGIN:VEVENT
DTSTART:20191116T140000Z
DTEND:20191116T210000Z
X-MICROSOFT-CDO-ALLDAYEVENT:FALSE
SUMMARY:Vandalia Nazarene Church Community Craft & Vendor Fair
DESCRIPTION:Over 60 Vendors  - Benefits Families in need in the Vandalia Butler Community and Vandalia Butler PTO
X-ALT-DESC;FMTTYPE=text/html:Over 60 Vendors&nbsp\; - Benefits Families in need in the Vandalia Butler Community and Vandalia Butler PTO
LOCATION:620 Stonequarry Road Vandalia\, OH 45377
UID:e.3542.146
SEQUENCE:3
DTSTAMP:20260424T085328Z
URL:https://business.vandaliabutlerchamber.org/events/details/vandalia-nazarene-church-community-craft-vendor-fair-146
END:VEVENT

END:VCALENDAR
