BEGIN:VCALENDAR
VERSION:2.0
PRODID:-//ChamberMaster//Event Calendar 2.0//EN
METHOD:PUBLISH
X-PUBLISHED-TTL:P3D
REFRESH-INTERVAL:P3D
CALSCALE:GREGORIAN
BEGIN:VEVENT
DTSTART:20191106T163000Z
DTEND:20191106T180000Z
X-MICROSOFT-CDO-ALLDAYEVENT:FALSE
SUMMARY:WINGS
DESCRIPTION:November WINGS Luncheon
X-ALT-DESC;FMTTYPE=text/html:November WINGS Luncheon&nbsp\;
LOCATION:Cassel Hills Golf Course 201 Clubhouse Way Vandalia\, OH 45377
UID:e.3542.135
SEQUENCE:3
DTSTAMP:20260424T084500Z
URL:https://business.vandaliabutlerchamber.org/events/details/wings-135
END:VEVENT

END:VCALENDAR
