BEGIN:VCALENDAR
VERSION:2.0
PRODID:-//ChamberMaster//Event Calendar 2.0//EN
METHOD:PUBLISH
X-PUBLISHED-TTL:P3D
REFRESH-INTERVAL:P3D
CALSCALE:GREGORIAN
BEGIN:VEVENT
DTSTART:20220907T153000Z
DTEND:20220907T170000Z
X-MICROSOFT-CDO-ALLDAYEVENT:FALSE
SUMMARY:WINgs Luncheon
DESCRIPTION:Calling ALL Women in Business - WINgs (Women In Networking Growing Stronger) is a lively gathering of business women from across the Miami Valley whose sole purpose is to help you grow your business\, provide a stable support link and engage with other like-minded business professionals.  \n\n\n\nWINgs meets on the first Wednesday of each month\; and a bit of caution\, this is not your average networking group!  We will have you up\, learning about your colleagues and engaging in the latest fun networking tools to help you Move Business FORWARD!
X-ALT-DESC;FMTTYPE=text/html:<span style="font-size:16px\;"><strong>Calling ALL Women in Business</strong> - WINgs (<u><strong>W</strong></u>omen <strong><u>I</u></strong>n <strong><u>N</u></strong>etworking <strong><u>G</u></strong>rowing <u><strong>S</strong></u>tronger) is a lively gathering of business women from across the Miami Valley whose sole purpose is to help you grow your business\, provide a stable support link and engage with other like-minded business professionals.&nbsp\;&nbsp\;<br />\n<br />\nWINgs meets on the first Wednesday of each month\; and a bit of caution\, this is not your average networking group!&nbsp\; We will have you up\, learning about your colleagues and engaging in the latest fun networking tools to help you <strong>Move Business <em>FORWARD!</em></strong></span><br />\n&nbsp\;
LOCATION:Helke Park - End of Summer Picnic 829 Randler Avenue Vandalia\, OH 45377
UID:e.3542.439
SEQUENCE:3
DTSTAMP:20260419T153525Z
URL:https://business.vandaliabutlerchamber.org/events/details/wings-luncheon-09-07-2022-439
END:VEVENT

END:VCALENDAR
