BEGIN:VCALENDAR
VERSION:2.0
PRODID:-//ChamberMaster//Event Calendar 2.0//EN
METHOD:PUBLISH
X-PUBLISHED-TTL:P3D
REFRESH-INTERVAL:P3D
CALSCALE:GREGORIAN
BEGIN:VEVENT
DTSTART:20200108T163000Z
DTEND:20200108T180000Z
X-MICROSOFT-CDO-ALLDAYEVENT:FALSE
SUMMARY:WINGS Luncheon
DESCRIPTION:First WINGS Luncheon of 2020!
X-ALT-DESC;FMTTYPE=text/html:First WINGS Luncheon of 2020!<br />\n&nbsp\;
LOCATION:Hairless Hair 738 West National Rd. Vandalia\, OH 45377
UID:e.3542.153
SEQUENCE:3
DTSTAMP:20260424T055603Z
URL:https://business.vandaliabutlerchamber.org/events/details/wings-luncheon-153
END:VEVENT

END:VCALENDAR
