BEGIN:VCALENDAR
VERSION:2.0
PRODID:-//ChamberMaster//Event Calendar 2.0//EN
METHOD:PUBLISH
X-PUBLISHED-TTL:P3D
REFRESH-INTERVAL:P3D
CALSCALE:GREGORIAN
BEGIN:VEVENT
DTSTART:20201104T163000Z
DTEND:20201104T180000Z
X-MICROSOFT-CDO-ALLDAYEVENT:FALSE
SUMMARY:WINGS Luncheon
DESCRIPTION:
X-ALT-DESC;FMTTYPE=text/html:
LOCATION:Elements IV Interiors 3680 Wyse Road Dayton\, OH 45414
UID:e.3542.216
SEQUENCE:3
DTSTAMP:20260423T170829Z
URL:https://business.vandaliabutlerchamber.org/events/details/wings-luncheon-216
END:VEVENT

END:VCALENDAR
