BEGIN:VCALENDAR
VERSION:2.0
PRODID:-//ChamberMaster//Event Calendar 2.0//EN
METHOD:PUBLISH
X-PUBLISHED-TTL:P3D
REFRESH-INTERVAL:P3D
CALSCALE:GREGORIAN
BEGIN:VEVENT
DTSTART:20200506T153000Z
DTEND:20200506T170000Z
X-MICROSOFT-CDO-ALLDAYEVENT:FALSE
SUMMARY:WINGS Luncheon / Cancelled until further notice
DESCRIPTION:WINGS Luncheon
X-ALT-DESC;FMTTYPE=text/html:WINGS Luncheon&nbsp\;
LOCATION:Cedar Springs Pavillion 7951 S. Co Rd 25A Tipp City\, OH 45371
UID:e.3542.168
SEQUENCE:3
DTSTAMP:20260424T000912Z
URL:https://business.vandaliabutlerchamber.org/events/details/wings-luncheon-cancelled-until-further-notice-05-06-2020-168
END:VEVENT

END:VCALENDAR
