BEGIN:VCALENDAR
VERSION:2.0
PRODID:-//ChamberMaster//Event Calendar 2.0//EN
METHOD:PUBLISH
X-PUBLISHED-TTL:P3D
REFRESH-INTERVAL:P3D
CALSCALE:GREGORIAN
BEGIN:VEVENT
DTSTART:20190911T153000Z
DTEND:20190911T173000Z
X-MICROSOFT-CDO-ALLDAYEVENT:FALSE
SUMMARY:WINGS September Luncheon
DESCRIPTION:Dear WINGETTES\, We invite you to our September 11th\, 2019 luncheon at Helke Park. Please wear comfortable shoes as we will be doing outdoor activities. ***IN THE EVENT OF RAIN OUR LUNCH WILL BE HELD AT VANDALIA SKATEWORLD. THE ADDRESS IS 333 S BROWN SCHOOL RD VANDALIA 45377***** DEADLINE FOR RSVP is September 5th\, 2019 MENU: Beverages: Water\, Iced Tea or Lemonade Main Entr e: Will be provided by Longhorn. If you require a Vegetarian lunch please email or call me. RSVP is always required\, thank you. Check in 11:10   11:30\, cash\, check or credit cards excepted. Pay in advance to avoid check in lines\, call me. We have a new wireless credit card machine!!!! Thank you\,
X-ALT-DESC;FMTTYPE=text/html:Dear WINGETTES\, We invite you to our September 11th\, 2019 luncheon at Helke Park. Please wear comfortable shoes as we will be doing outdoor activities. ***IN THE EVENT OF RAIN OUR LUNCH WILL BE HELD AT VANDALIA SKATEWORLD. THE ADDRESS IS 333 S BROWN SCHOOL RD VANDALIA 45377***** DEADLINE FOR RSVP is September 5th\, 2019 MENU: Beverages: Water\, Iced Tea or Lemonade Main Entr&eacute\;e: Will be provided by Longhorn. If you require a Vegetarian lunch please email or call me. RSVP is always required\, thank you. Check in 11:10 &ndash\; 11:30\, cash\, check or credit cards excepted. Pay in advance to avoid check in lines\, call me. We have a new wireless credit card machine!!!! Thank you\,
LOCATION:Helke Park 833 Randler Ave. Vandalia\, OH 45377
UID:e.3542.130
SEQUENCE:3
DTSTAMP:20260424T112048Z
URL:https://business.vandaliabutlerchamber.org/events/details/wings-september-luncheon-130
END:VEVENT

END:VCALENDAR
