BEGIN:VCALENDAR
VERSION:2.0
PRODID:-//ChamberMaster//Event Calendar 2.0//EN
METHOD:PUBLISH
X-PUBLISHED-TTL:P3D
REFRESH-INTERVAL:P3D
CALSCALE:GREGORIAN
BEGIN:VEVENT
DTSTART:20220426T120000Z
DTEND:20220426T190000Z
X-MICROSOFT-CDO-ALLDAYEVENT:FALSE
SUMMARY:Women In Business Conference
DESCRIPTION:A WINgs experience like no other - the 2023 WINgs Women In Business Conference\, "Thriving Through Adversity"\, will engage business women from all across the Miami Valley. Join our host/emcee -  Sheena Ellison - along with Keynote speaker Stacey Lawson and other scheduled leaders for a conference experience that will have you building engagement\, enriching your life and empowering you to do even greater things.
X-ALT-DESC;FMTTYPE=text/html:<span style="font-size:18px\;"><span style="font-family:times new roman\;">A WINgs experience like no other - the 2023 WINgs Women In Business Conference\, <strong><em>&quot\;Thriving Through Adversity&quot\;</em></strong>\, will engage business women from all across the Miami Valley. Join our host/emcee -&nbsp\; Sheena Ellison - along with Keynote speaker Stacey Lawson and other scheduled leaders for a conference experience that will have you building engagement\, enriching your life and empowering you to do even greater things.</span></span>
LOCATION:The Concord Room 845 W Market St. Troy\, OH 45373
UID:e.3542.305
SEQUENCE:3
DTSTAMP:20260420T133655Z
URL:https://business.vandaliabutlerchamber.org/events/details/women-in-business-conference-305
END:VEVENT

END:VCALENDAR
